BEGIN:VCALENDAR
VERSION:2.0
PRODID:icalendar-ruby
CALSCALE:GREGORIAN
BEGIN:VTIMEZONE
TZID:Europe/London
BEGIN:DAYLIGHT
DTSTART:20260329T020000
TZOFFSETFROM:+0000
TZOFFSETTO:+0100
RRULE:FREQ=YEARLY;BYDAY=-1SU;BYMONTH=3
TZNAME:BST
END:DAYLIGHT
BEGIN:STANDARD
DTSTART:20261025T010000
TZOFFSETFROM:+0100
TZOFFSETTO:+0000
RRULE:FREQ=YEARLY;BYDAY=-1SU;BYMONTH=10
TZNAME:GMT
END:STANDARD
END:VTIMEZONE
BEGIN:VEVENT
DTSTAMP:20260420T114102Z
UID:72b162a4-94bc-4750-b902-dfec58aaef24
DTSTART:20260411T124500
DTEND:20260411T140000
DESCRIPTION:🥕 Love soup\, hate capitalism\n\n🏴Free meals every Saturd
 ay\n\n📍Corner of Dixon Avenue and Victoria Road
GEO:-4.264962001000497;-4.264962001000497
LAST-MODIFIED:20260408T135823
LOCATION:Corner of Dixon Avenue and Victoria Road\, Glasgow
SUMMARY:Free Meals With Govanhill Food Not Bombs
URL;VALUE=URI:https://ion-glasgow.net/events/11
RRULE:FREQ=WEEKLY
END:VEVENT
END:VCALENDAR
