BEGIN:VCALENDAR
VERSION:2.0
PRODID:icalendar-ruby
CALSCALE:GREGORIAN
BEGIN:VTIMEZONE
TZID:Europe/London
BEGIN:DAYLIGHT
DTSTART:20260329T020000
TZOFFSETFROM:+0000
TZOFFSETTO:+0100
RRULE:FREQ=YEARLY;BYDAY=-1SU;BYMONTH=3
TZNAME:BST
END:DAYLIGHT
BEGIN:STANDARD
DTSTART:20261025T010000
TZOFFSETFROM:+0100
TZOFFSETTO:+0000
RRULE:FREQ=YEARLY;BYDAY=-1SU;BYMONTH=10
TZNAME:GMT
END:STANDARD
END:VTIMEZONE
BEGIN:VEVENT
DTSTAMP:20260420T115233Z
UID:13007f28-2b58-49c2-afae-f95a9922fba2
DTSTART:20260419T160000
DTEND:20260419T180000
DESCRIPTION:Glasgow mutual aid crew giving folk a hand with their tech. Lik
 e food not bombs\, but for digital support. Pop along to the corner of Dix
 on Avenue and Victoria Road on Sunday afternoons! 🍄
GEO:-4.264971286265194;-4.264971286265194
LAST-MODIFIED:20260410T220449
LOCATION:Corner of Dixon Avenue and Victoria Road\, Glasgow
SUMMARY:Free Tech Support with Digital Mushrooms
URL;VALUE=URI:https://ion-glasgow.net/events/12
RRULE:FREQ=WEEKLY
END:VEVENT
END:VCALENDAR
