BEGIN:VCALENDAR
VERSION:2.0
PRODID:icalendar-ruby
CALSCALE:GREGORIAN
BEGIN:VTIMEZONE
TZID:Europe/London
BEGIN:DAYLIGHT
DTSTART:20260329T020000
TZOFFSETFROM:+0000
TZOFFSETTO:+0100
RRULE:FREQ=YEARLY;BYDAY=-1SU;BYMONTH=3
TZNAME:BST
END:DAYLIGHT
BEGIN:STANDARD
DTSTART:20261025T010000
TZOFFSETFROM:+0100
TZOFFSETTO:+0000
RRULE:FREQ=YEARLY;BYDAY=-1SU;BYMONTH=10
TZNAME:GMT
END:STANDARD
END:VTIMEZONE
BEGIN:VEVENT
DTSTAMP:20260420T130814Z
UID:aaa7d032-3b54-4d04-8b62-9e13f3508566
DTSTART:20260523T110000
DTEND:20260523T180000
DESCRIPTION:This event will take place at The Briggait. It is free to atten
 d\, no ticket needed.\n\nThe zine fair is a weekend-long market featuring 
 over 100 makers and artists showcasing\, selling\, and swapping their zine
 s\, prints\, artworks\, t-shirts\, merch\, and more. Come and meet the tab
 le-holders\, who are coming from all over the country to share their DIY t
 reasures\, connect with like-minded people\, and celebrate zine culture.\n
 \n11-1pm on Saturday and Sunday are Access+ Hours. During this time\, mask
  wearing is required when attending the zine fair. Please see our access p
 age for full information.
GEO:-4.249697324788971;-4.249697324788971
LAST-MODIFIED:20260413T210537
LOCATION:The Briggait\, Bridgegate\, Glasgow\, G1 5HZ
SUMMARY:Glasgow Zine Fair
URL;VALUE=URI:https://ion-glasgow.net/events/13
RRULE:FREQ=DAILY
END:VEVENT
BEGIN:VEVENT
DTSTAMP:20260420T130814Z
UID:aaa7d032-3b54-4d04-8b62-9e13f3508566
DTSTART:20260524T110000
DTEND:20260524T170000
DESCRIPTION:This event will take place at The Briggait. It is free to atten
 d\, no ticket needed.\n\nThe zine fair is a weekend-long market featuring 
 over 100 makers and artists showcasing\, selling\, and swapping their zine
 s\, prints\, artworks\, t-shirts\, merch\, and more. Come and meet the tab
 le-holders\, who are coming from all over the country to share their DIY t
 reasures\, connect with like-minded people\, and celebrate zine culture.\n
 \n11-1pm on Saturday and Sunday are Access+ Hours. During this time\, mask
  wearing is required when attending the zine fair. Please see our access p
 age for full information.
GEO:-4.249697324788971;-4.249697324788971
LAST-MODIFIED:20260413T210605
LOCATION:The Briggait\, Bridgegate\, Glasgow\, G1 5HZ
SUMMARY:Glasgow Zine Fair
URL;VALUE=URI:https://ion-glasgow.net/events/13/occurrence/1779616800
RECURRENCE-ID:20260524T110000
END:VEVENT
END:VCALENDAR
