BEGIN:VCALENDAR
VERSION:2.0
PRODID:icalendar-ruby
CALSCALE:GREGORIAN
BEGIN:VTIMEZONE
TZID:Europe/London
BEGIN:DAYLIGHT
DTSTART:20260329T020000
TZOFFSETFROM:+0000
TZOFFSETTO:+0100
RRULE:FREQ=YEARLY;BYDAY=-1SU;BYMONTH=3
TZNAME:BST
END:DAYLIGHT
BEGIN:STANDARD
DTSTART:20261025T010000
TZOFFSETFROM:+0100
TZOFFSETTO:+0000
RRULE:FREQ=YEARLY;BYDAY=-1SU;BYMONTH=10
TZNAME:GMT
END:STANDARD
END:VTIMEZONE
BEGIN:VEVENT
DTSTAMP:20260420T114521Z
UID:ee605034-c48a-4795-a2a9-4244fa5fe5f6
DTSTART:20260419T180000
DTEND:20260419T200000
DESCRIPTION:We\, the Glasgow Christian Anarchist Group\, are an ecumenical 
 group of Christians interested in anarchism\, and of Anarchists interested
  in Christianity\, and the intersection of these two traditions\, based in
  Glasgow\, Scotland.\n\nWe meet monthly as a reading and discussion group 
 at "Common Ground" ecumenical Eucharist at St Serf's Church\, 1464 Shettle
 ston Road\, Glasgow\, G32 9AL.
GEO:-4.1583544;-4.1583544
LAST-MODIFIED:20260417T104306
LOCATION:Common Ground\, St Serf's Church\, 1464 Shettleston Road\, Glasgow
 \, G32 9AL
SUMMARY:Glasgow Christian Anarchist Reading Group
URL;VALUE=URI:https://ion-glasgow.net/events/14
RRULE:FREQ=MONTHLY;BYDAY=3SU
END:VEVENT
END:VCALENDAR
